BEGIN:VCALENDAR
VERSION:2.0
PRODID:-//RotaryScrape//Calendar//EN
CALSCALE:GREGORIAN
METHOD:PUBLISH
X-WR-CALNAME:Rotary Events
X-WR-TIMEZONE:America/Los_Angeles
BEGIN:VEVENT
UID:77911011@rotaryscrape
DTSTAMP:20260423T115928Z
DTSTART:20260516T100000Z
DTEND:20260516T110000Z
SUMMARY:The Rotary Route: San Clemente Mental Health Walk
DESCRIPTION: 
URL:https://dacdb.com/Calendar/Event.cfm?EventID=77911011
STATUS:CONFIRMED
END:VEVENT
END:VCALENDAR
