BEGIN:VCALENDAR
VERSION:2.0
PRODID:-//RotaryScrape//Calendar//EN
CALSCALE:GREGORIAN
METHOD:PUBLISH
X-WR-CALNAME:Rotary Events
X-WR-TIMEZONE:America/Los_Angeles
BEGIN:VEVENT
UID:77911013@rotaryscrape
DTSTAMP:20260423T120045Z
DTSTART:20260516T080000Z
DTEND:20260516T090000Z
SUMMARY:The Rotary Route: Whittier Mental Health Walk
LOCATION:https://www.givsum.com/opportunities/the-rotary-route-whittier-walk-for-mental-wellness-3c67d3914  &nbsp\;
DESCRIPTION:https://www.givsum.com/opportunities/the-rotary-route-whittier-walk-for-mental-wellness-3c67d3914
URL:https://dacdb.com/Calendar/Event.cfm?EventID=77911013
STATUS:CONFIRMED
END:VEVENT
END:VCALENDAR
